BEGIN:VCALENDAR
METHOD:PUBLISH
PRODID:-//doubleknot.com//CalenderEvent MIMEDIR//EN
VERSION:2.0
BEGIN:VEVENT
UID:3142705-20260605T223000Z-20260606T000000Z@doubleknot.com
CREATED:20260408T185808Z
LAST-MODIFIED:20260421T135740Z
DTSTAMP:20260423T153053Z
DTSTART:20260605T223000Z
DTEND:20260606T000000Z
LOCATION:451 N 12th St, Lincoln, NE 68588, US
CATEGORIES:Public Programs
DESCRIPTION:Sheldon Museum of Art teams up with ECHO Collective and Nebraska Public Media for a special screening of ECHO Collective&rsquo;s episode of Nebraska Public Media&rsquo;s award-winning series &ldquo;What if&hellip;&rdquo; \n  \n  \n The series, hosted by Mike Tobias, explores innovation, creativity, and entrepreneurship in Nebraska. The ECHO Collective episode follows a cohort of Lincoln-area refugee/immigrant women through an intensive four-month business/entrepreneurship program.  \n  \n  \n Following the screening, Mike will host a discussion with Mo Mimic, one of the ECHO Collective entrepreneurs featured in the episode, and Kelly Ross, ECHO Collective founder.  \n  \n  \n This event is free and open to everyone. Registration is encouraged.  \n  \n  \n Please note that meter parking on 12th and R streets is currently unavailable due to construction. The Que Place Garage and the Larson Building Garage remain available for parking for a fee.  \n  \n  \n Through registering, you are signing up to receive emails from Sheldon Museum of Art, Nebraska Public Media and ECHO Collective. \n 
SUMMARY:"What if..." Screening and Discussion with ECHO Collective
PRIORITY:5
BEGIN:VALARM
TRIGGER:PT15M
ACTION:DISPLAY
DESCRIPTION:Reminder
PRIORITY:5
END:VALARM
END:VEVENT
END:VCALENDAR
