BEGIN:VCALENDAR
METHOD:PUBLISH
PRODID:-//doubleknot.com//CalenderEvent MIMEDIR//EN
VERSION:2.0
BEGIN:VEVENT
UID:3141012-20260613T190000Z-20260613T200000Z@doubleknot.com
CREATED:20260314T213829Z
LAST-MODIFIED:20260314T213829Z
DTSTAMP:20260423T153000Z
DTSTART:20260613T190000Z
DTEND:20260613T200000Z
LOCATION:451 N 12th Street, Lincoln, NE 68588, US
CATEGORIES:Public Programs
DESCRIPTION: \n  \n  \n Sheldon&#39;s Drop-in Tours are a great way to learn more about the Sheldon&#39;s architecture, exhibitions, and collection. Drop-in Tours are free and open to everyone. No registration is required.  \n  \n  \n Please note that meter parking on 12th and R streets is currently unavailable due to construction. The Que Place Garage and the Larson Building Garage remain available for parking for a fee.  \n  \n  \n Click this link for written directions of how to get to our Sheldon Museum parking lot.  \n 
SUMMARY:Drop-in Tour
PRIORITY:5
BEGIN:VALARM
TRIGGER:PT15M
ACTION:DISPLAY
DESCRIPTION:Reminder
PRIORITY:5
END:VALARM
END:VEVENT
END:VCALENDAR
