BEGIN:VCALENDAR
METHOD:PUBLISH
PRODID:-//doubleknot.com//CalenderEvent MIMEDIR//EN
VERSION:2.0
BEGIN:VEVENT
UID:3137286-20260509T190000Z-20260509T200000Z@doubleknot.com
CREATED:20260215T204234Z
LAST-MODIFIED:20260314T213700Z
DTSTAMP:20260423T152959Z
DTSTART:20260509T190000Z
DTEND:20260509T200000Z
LOCATION:451 N 12th Street, Lincoln, NE 68588, US
CATEGORIES:Community Tours, Public Programs
DESCRIPTION:Join Thuy Ngoc Ho for a Vietnamese language tour of the exhibition Hyphen American: Intersections of Identity. Tours at Sheldon are a great way to learn more about the art and artist at Sheldon through an interactive experience.   \n  \n  \n   \n  \n  \n Tours at Sheldon are free and open to everyone, but registration is strongly encouraged. \n  \n  \n Please note that meter parking on 12th and R streets is currently unavailable due to construction. The Que Place Garage and the Larson Building Garage remain available for parking for a fee.  \n  \n  \n Click this link for written directions of how to get to our Sheldon Museum parking lot.  \n 
SUMMARY:"Hyphen American" Exhibition Tour in Vietnamese with Thuy Ngoc Ho
PRIORITY:5
BEGIN:VALARM
TRIGGER:PT15M
ACTION:DISPLAY
DESCRIPTION:Reminder
PRIORITY:5
END:VALARM
END:VEVENT
END:VCALENDAR
