BEGIN:VCALENDAR
METHOD:PUBLISH
PRODID:-//doubleknot.com//CalenderEvent MIMEDIR//EN
VERSION:2.0
BEGIN:VEVENT
UID:3133166-20260621T190000Z-20260621T210000Z@doubleknot.com
CREATED:20260122T204507Z
LAST-MODIFIED:20260314T213844Z
DTSTAMP:20260423T175221Z
DTSTART:20260621T190000Z
DTEND:20260621T210000Z
LOCATION:451 N 12th Street, Lincoln, NE 68588, US
CATEGORIES:Family Events, Public Programs
DESCRIPTION:Join artist and educator Jen Landis and her wonderful Bad Portrait Machine for an afternoon of creativity. Inspired by the exhibition Hyphen American: Intersections of Identity, you&rsquo;re invited to create a portraiture, take part in gallery activities, and enjoy a tasty snack at Sheldon. This event is free and open to all.   \n  \n  \n Please note that meter parking on 12th and R streets is currently unavailable due to construction. The Que Place Garage and the Larson Building Garage remain available for parking for a fee.  \n  \n  \n Click this link for written directions of how to get to our Sheldon Museum parking lot. \n 
SUMMARY:Family Day featuring Jen Landis and Her Bad Portrait Machine
PRIORITY:5
BEGIN:VALARM
TRIGGER:PT15M
ACTION:DISPLAY
DESCRIPTION:Reminder
PRIORITY:5
END:VALARM
END:VEVENT
END:VCALENDAR
