BEGIN:VCALENDAR
METHOD:PUBLISH
PRODID:-//doubleknot.com//CalenderEvent MIMEDIR//EN
VERSION:2.0
BEGIN:VEVENT
UID:3132510-20260516T190000Z-20260516T200000Z@doubleknot.com
CREATED:20260118T183746Z
LAST-MODIFIED:20260314T213727Z
DTSTAMP:20260423T163726Z
DTSTART:20260516T190000Z
DTEND:20260516T200000Z
LOCATION:451 N 12th Street, Lincoln, NE 68588, US
CATEGORIES:Community Tours, Public Programs
DESCRIPTION:Christian Wurst, Sheldon Museum of Art&rsquo;s associate curator for exhibitions, leads a tour of the exhibition he organized, Hyphen American: Intersections of Identity.   \n  \n  \n Please note that meter parking on 12th and R streets is currently unavailable due to construction. The Que Place Garage and the Larson Building Garage remain available for parking for a fee.  \n  \n  \n Click this link for written directions of how to get to our Sheldon Museum parking lot.  \n 
SUMMARY:Curator Tour: Hyphen American: Intersections of Identity
PRIORITY:5
BEGIN:VALARM
TRIGGER:PT15M
ACTION:DISPLAY
DESCRIPTION:Reminder
PRIORITY:5
END:VALARM
END:VEVENT
END:VCALENDAR
